BEGIN:VCALENDAR
VERSION:2.0
PRODID:-//jEvents 2.0 for Joomla//EN
CALSCALE:GREGORIAN
METHOD:PUBLISH
BEGIN:VTIMEZONE
TZID:Europe/Berlin
BEGIN:STANDARD
DTSTART:20241225T000000
RDATE:20250330T030000
TZOFFSETFROM:+0200
TZOFFSETTO:+0100
TZNAME:Europe/Berlin CET
END:STANDARD
BEGIN:STANDARD
DTSTART:20251026T020000
RDATE:20260329T030000
TZOFFSETFROM:+0200
TZOFFSETTO:+0100
TZNAME:Europe/Berlin CET
END:STANDARD
BEGIN:STANDARD
DTSTART:20261025T020000
RDATE:20270328T030000
TZOFFSETFROM:+0200
TZOFFSETTO:+0100
TZNAME:Europe/Berlin CET
END:STANDARD
BEGIN:STANDARD
DTSTART:20271031T020000
RDATE:20280326T030000
TZOFFSETFROM:+0200
TZOFFSETTO:+0100
TZNAME:Europe/Berlin CET
END:STANDARD
BEGIN:STANDARD
DTSTART:20281029T020000
RDATE:20290325T030000
TZOFFSETFROM:+0200
TZOFFSETTO:+0100
TZNAME:Europe/Berlin CET
END:STANDARD
BEGIN:STANDARD
DTSTART:20291028T020000
RDATE:20300331T030000
TZOFFSETFROM:+0200
TZOFFSETTO:+0100
TZNAME:Europe/Berlin CET
END:STANDARD
BEGIN:STANDARD
DTSTART:20301027T020000
RDATE:20310330T030000
TZOFFSETFROM:+0200
TZOFFSETTO:+0100
TZNAME:Europe/Berlin CET
END:STANDARD
BEGIN:STANDARD
DTSTART:20311026T020000
RDATE:20320328T030000
TZOFFSETFROM:+0200
TZOFFSETTO:+0100
TZNAME:Europe/Berlin CET
END:STANDARD
BEGIN:STANDARD
DTSTART:20321031T020000
RDATE:20330327T030000
TZOFFSETFROM:+0200
TZOFFSETTO:+0100
TZNAME:Europe/Berlin CET
END:STANDARD
BEGIN:STANDARD
DTSTART:20331030T020000
RDATE:20340326T030000
TZOFFSETFROM:+0200
TZOFFSETTO:+0100
TZNAME:Europe/Berlin CET
END:STANDARD
BEGIN:STANDARD
DTSTART:20341029T020000
RDATE:20350325T030000
TZOFFSETFROM:+0200
TZOFFSETTO:+0100
TZNAME:Europe/Berlin CET
END:STANDARD
BEGIN:STANDARD
DTSTART:20351028T020000
RDATE:20360330T030000
TZOFFSETFROM:+0200
TZOFFSETTO:+0100
TZNAME:Europe/Berlin CET
END:STANDARD
BEGIN:STANDARD
DTSTART:20361026T020000
RDATE:20370329T030000
TZOFFSETFROM:+0200
TZOFFSETTO:+0100
TZNAME:Europe/Berlin CET
END:STANDARD
BEGIN:STANDARD
DTSTART:20371025T020000
TZOFFSETFROM:+0200
TZOFFSETTO:+0100
TZNAME:Europe/Berlin CET
END:STANDARD
BEGIN:DAYLIGHT
DTSTART:20250330T030000
RDATE:20251026T020000
TZOFFSETFROM:+0100
TZOFFSETTO:+0200
TZNAME:Europe/Berlin CEST
END:DAYLIGHT
BEGIN:DAYLIGHT
DTSTART:20260329T030000
RDATE:20261025T020000
TZOFFSETFROM:+0100
TZOFFSETTO:+0200
TZNAME:Europe/Berlin CEST
END:DAYLIGHT
BEGIN:DAYLIGHT
DTSTART:20270328T030000
RDATE:20271031T020000
TZOFFSETFROM:+0100
TZOFFSETTO:+0200
TZNAME:Europe/Berlin CEST
END:DAYLIGHT
BEGIN:DAYLIGHT
DTSTART:20280326T030000
RDATE:20281029T020000
TZOFFSETFROM:+0100
TZOFFSETTO:+0200
TZNAME:Europe/Berlin CEST
END:DAYLIGHT
BEGIN:DAYLIGHT
DTSTART:20290325T030000
RDATE:20291028T020000
TZOFFSETFROM:+0100
TZOFFSETTO:+0200
TZNAME:Europe/Berlin CEST
END:DAYLIGHT
BEGIN:DAYLIGHT
DTSTART:20300331T030000
RDATE:20301027T020000
TZOFFSETFROM:+0100
TZOFFSETTO:+0200
TZNAME:Europe/Berlin CEST
END:DAYLIGHT
BEGIN:DAYLIGHT
DTSTART:20310330T030000
RDATE:20311026T020000
TZOFFSETFROM:+0100
TZOFFSETTO:+0200
TZNAME:Europe/Berlin CEST
END:DAYLIGHT
BEGIN:DAYLIGHT
DTSTART:20320328T030000
RDATE:20321031T020000
TZOFFSETFROM:+0100
TZOFFSETTO:+0200
TZNAME:Europe/Berlin CEST
END:DAYLIGHT
BEGIN:DAYLIGHT
DTSTART:20330327T030000
RDATE:20331030T020000
TZOFFSETFROM:+0100
TZOFFSETTO:+0200
TZNAME:Europe/Berlin CEST
END:DAYLIGHT
BEGIN:DAYLIGHT
DTSTART:20340326T030000
RDATE:20341029T020000
TZOFFSETFROM:+0100
TZOFFSETTO:+0200
TZNAME:Europe/Berlin CEST
END:DAYLIGHT
BEGIN:DAYLIGHT
DTSTART:20350325T030000
RDATE:20351028T020000
TZOFFSETFROM:+0100
TZOFFSETTO:+0200
TZNAME:Europe/Berlin CEST
END:DAYLIGHT
BEGIN:DAYLIGHT
DTSTART:20360330T030000
RDATE:20361026T020000
TZOFFSETFROM:+0100
TZOFFSETTO:+0200
TZNAME:Europe/Berlin CEST
END:DAYLIGHT
BEGIN:DAYLIGHT
DTSTART:20370329T030000
RDATE:20371025T020000
TZOFFSETFROM:+0100
TZOFFSETTO:+0200
TZNAME:Europe/Berlin CEST
END:DAYLIGHT
END:VTIMEZONE
BEGIN:VEVENT
UID:685a66bc5812f@57.calovo
CATEGORIES:Ferien und Feiertage
CREATED:20250701T010002
SUMMARY:2. Weihnachtstag
LOCATION:calovo.de | Hamburg\, Deutschland
DESCRIPTION:Weihnachtsfest in Hamburg 2025 Herzlich willkommen in Hamburg zur Weihnacht
 szeit! 2025 wird der 2. Weihnachtstag, der 26. Dezember, ein Feiertag sein,
  auf den sich alle freuen können. Hamburg verwandelt sich zur Weihnachtszei
 t in eine wunderbare Welt aus festlicher Beleuchtung, glänzenden Weihnachts
 märkten und fröhlichen Veranstaltungen. Der 26. Dezember in Hamburg ist nic
 ht nur ein gesetzlicher Feiertag, sondern auch ein Tag gefüllt mit speziell
 en Veranstaltungen und Terminen. Die Tradition des 2. Weihnachtstages Der 2
 . Weihnachtstag hat eine lange und reiche Tradition. Etabliert im 8. Jahrhu
 ndert, hat dieser Tag die besondere Bedeutung, die Geburt von Jesus Christu
 s und seine Inkarnation zu ehren. In der evangelischen Kirche liegt der Fok
 us auf der Inkarnation des Wortes, gemäß dem Johannes-Evangelium. Einst als
  Stephanustag bekannt, war dieser Feiertag eine Zeit, um Gottes Liebesgesch
 enk an die Menschheit zu feiern. Festliche Aktivitäten in Hamburg In Städte
 n wie Hamburg ist der 2. (gekürzt). <br/> Weiteres: <br/> Zum Event: <a hre
 f="https://termine.de/e/w7rDcCk?clickref=ical<br/><br/>Zur">https://termine
 .de/e/w7rDcCk?clickref=ical<br/><br/>Zur</a> Eventübersicht: <a href="https
 ://www.awin1.com/cread.php?awinmid=8616&awinaffid=1141853&clickref=termine.
 de&ued=https%3A%2F%2Fwww.tiqets.com%2Fde%2Fhamburg-sehenswuerdigkeiten-c648
 86%2F%3Fpartner%3D8616<br/><br/><br/><br/><br/>Anbieter-Impressum:">https:/
 /www.awin1.com/cread.php?awinmid=8616&awinaffid=1141853&clickref=termine.de
 &ued=https%3A%2F%2Fwww.tiqets.com%2Fde%2Fhamburg-sehenswuerdigkeiten-c64886
 %2F%3Fpartner%3D8616<br/><br/><br/><br/><br/>Anbieter-Impressum:</a> <a hre
 f="https://calovo.de/impressum">https://calovo.de/impressum</a><br/><br/><b
 r/>calovo Kalender löschen? Anleitung: termine.de/ical/loeschen
DTSTAMP:20260421T213308
DTSTART;TZID=Europe/Berlin;VALUE=DATE:20251226
DTEND;TZID=Europe/Berlin;VALUE=DATE:20251227
SEQUENCE:2218
TRANSP:OPAQUE
END:VEVENT
END:VCALENDAR