BEGIN:VCALENDAR
VERSION:2.0
PRODID:-//jEvents 2.0 for Joomla//EN
CALSCALE:GREGORIAN
METHOD:PUBLISH
BEGIN:VTIMEZONE
TZID:Europe/Berlin
BEGIN:STANDARD
DTSTART:20241224T000000
RDATE:20250330T030000
TZOFFSETFROM:+0200
TZOFFSETTO:+0100
TZNAME:Europe/Berlin CET
END:STANDARD
BEGIN:STANDARD
DTSTART:20251026T020000
RDATE:20260329T030000
TZOFFSETFROM:+0200
TZOFFSETTO:+0100
TZNAME:Europe/Berlin CET
END:STANDARD
BEGIN:STANDARD
DTSTART:20261025T020000
RDATE:20270328T030000
TZOFFSETFROM:+0200
TZOFFSETTO:+0100
TZNAME:Europe/Berlin CET
END:STANDARD
BEGIN:STANDARD
DTSTART:20271031T020000
RDATE:20280326T030000
TZOFFSETFROM:+0200
TZOFFSETTO:+0100
TZNAME:Europe/Berlin CET
END:STANDARD
BEGIN:STANDARD
DTSTART:20281029T020000
RDATE:20290325T030000
TZOFFSETFROM:+0200
TZOFFSETTO:+0100
TZNAME:Europe/Berlin CET
END:STANDARD
BEGIN:STANDARD
DTSTART:20291028T020000
RDATE:20300331T030000
TZOFFSETFROM:+0200
TZOFFSETTO:+0100
TZNAME:Europe/Berlin CET
END:STANDARD
BEGIN:STANDARD
DTSTART:20301027T020000
RDATE:20310330T030000
TZOFFSETFROM:+0200
TZOFFSETTO:+0100
TZNAME:Europe/Berlin CET
END:STANDARD
BEGIN:STANDARD
DTSTART:20311026T020000
RDATE:20320328T030000
TZOFFSETFROM:+0200
TZOFFSETTO:+0100
TZNAME:Europe/Berlin CET
END:STANDARD
BEGIN:STANDARD
DTSTART:20321031T020000
RDATE:20330327T030000
TZOFFSETFROM:+0200
TZOFFSETTO:+0100
TZNAME:Europe/Berlin CET
END:STANDARD
BEGIN:STANDARD
DTSTART:20331030T020000
RDATE:20340326T030000
TZOFFSETFROM:+0200
TZOFFSETTO:+0100
TZNAME:Europe/Berlin CET
END:STANDARD
BEGIN:STANDARD
DTSTART:20341029T020000
RDATE:20350325T030000
TZOFFSETFROM:+0200
TZOFFSETTO:+0100
TZNAME:Europe/Berlin CET
END:STANDARD
BEGIN:STANDARD
DTSTART:20351028T020000
RDATE:20360330T030000
TZOFFSETFROM:+0200
TZOFFSETTO:+0100
TZNAME:Europe/Berlin CET
END:STANDARD
BEGIN:STANDARD
DTSTART:20361026T020000
RDATE:20370329T030000
TZOFFSETFROM:+0200
TZOFFSETTO:+0100
TZNAME:Europe/Berlin CET
END:STANDARD
BEGIN:STANDARD
DTSTART:20371025T020000
TZOFFSETFROM:+0200
TZOFFSETTO:+0100
TZNAME:Europe/Berlin CET
END:STANDARD
BEGIN:DAYLIGHT
DTSTART:20250330T030000
RDATE:20251026T020000
TZOFFSETFROM:+0100
TZOFFSETTO:+0200
TZNAME:Europe/Berlin CEST
END:DAYLIGHT
BEGIN:DAYLIGHT
DTSTART:20260329T030000
RDATE:20261025T020000
TZOFFSETFROM:+0100
TZOFFSETTO:+0200
TZNAME:Europe/Berlin CEST
END:DAYLIGHT
BEGIN:DAYLIGHT
DTSTART:20270328T030000
RDATE:20271031T020000
TZOFFSETFROM:+0100
TZOFFSETTO:+0200
TZNAME:Europe/Berlin CEST
END:DAYLIGHT
BEGIN:DAYLIGHT
DTSTART:20280326T030000
RDATE:20281029T020000
TZOFFSETFROM:+0100
TZOFFSETTO:+0200
TZNAME:Europe/Berlin CEST
END:DAYLIGHT
BEGIN:DAYLIGHT
DTSTART:20290325T030000
RDATE:20291028T020000
TZOFFSETFROM:+0100
TZOFFSETTO:+0200
TZNAME:Europe/Berlin CEST
END:DAYLIGHT
BEGIN:DAYLIGHT
DTSTART:20300331T030000
RDATE:20301027T020000
TZOFFSETFROM:+0100
TZOFFSETTO:+0200
TZNAME:Europe/Berlin CEST
END:DAYLIGHT
BEGIN:DAYLIGHT
DTSTART:20310330T030000
RDATE:20311026T020000
TZOFFSETFROM:+0100
TZOFFSETTO:+0200
TZNAME:Europe/Berlin CEST
END:DAYLIGHT
BEGIN:DAYLIGHT
DTSTART:20320328T030000
RDATE:20321031T020000
TZOFFSETFROM:+0100
TZOFFSETTO:+0200
TZNAME:Europe/Berlin CEST
END:DAYLIGHT
BEGIN:DAYLIGHT
DTSTART:20330327T030000
RDATE:20331030T020000
TZOFFSETFROM:+0100
TZOFFSETTO:+0200
TZNAME:Europe/Berlin CEST
END:DAYLIGHT
BEGIN:DAYLIGHT
DTSTART:20340326T030000
RDATE:20341029T020000
TZOFFSETFROM:+0100
TZOFFSETTO:+0200
TZNAME:Europe/Berlin CEST
END:DAYLIGHT
BEGIN:DAYLIGHT
DTSTART:20350325T030000
RDATE:20351028T020000
TZOFFSETFROM:+0100
TZOFFSETTO:+0200
TZNAME:Europe/Berlin CEST
END:DAYLIGHT
BEGIN:DAYLIGHT
DTSTART:20360330T030000
RDATE:20361026T020000
TZOFFSETFROM:+0100
TZOFFSETTO:+0200
TZNAME:Europe/Berlin CEST
END:DAYLIGHT
BEGIN:DAYLIGHT
DTSTART:20370329T030000
RDATE:20371025T020000
TZOFFSETFROM:+0100
TZOFFSETTO:+0200
TZNAME:Europe/Berlin CEST
END:DAYLIGHT
END:VTIMEZONE
BEGIN:VEVENT
UID:685a66bc4a0cf@57.calovo
CATEGORIES:Ferien und Feiertage
CREATED:20250701T010002
SUMMARY:1. Weihnachtstag
LOCATION:calovo.de | Hamburg\, Deutschland
DESCRIPTION:Weihnachtszauber in Hamburg Weihnachten ist ein besonderes Fest, das mit ve
 rschiedenen Bräuchen und Traditionen gefeiert wird. Die Ursprünge des Worte
 s "Weihnachten" reichen tief in unsere Kulturgeschichte hinein, repräsentie
 ren das Heilige und das Wunderbare und sind Ausdruck der Hochachtung für da
 s Geschehen der Geburt Jesu. Diese bedeutsame Zeit ist voller Erwartung und
  Magie. Genau diese Atmosphäre lässt sich auch im Hamburg des Jahres 2025 a
 m 1. Weihnachtstag erleben. Feierlicher 1. Weihnachtstag in Hamburg Die Sta
 dt Hamburg bietet ein vielfältiges und umfangreiches Programm für den 1. We
 ihnachtstag im Jahr 2025. Ein Tag, den man umgeben von festlicher Stimmung 
 und freudiger Erwartung im Kreise der Lieben oder in geselliger Runde verbr
 ingen kann. Die Veranstaltungen in der Stadt sind sorgfältig ausgewählt und
  aufeinander abgestimmt, sodass für jeden Geschmack das passende Angebot da
 bei ist. Stimmungsvolle Weihnachtsmärkte in Hamburg Besonders einzigartig s
 ind die stimmungsvollen (gekürzt). <br/> Weiteres: <br/> Zum Event: <a href
 ="https://termine.de/e/6SyLmLS?clickref=ical<br/><br/>Zur">https://termine.
 de/e/6SyLmLS?clickref=ical<br/><br/>Zur</a> Eventübersicht: <a href="https:
 //www.awin1.com/cread.php?awinmid=8616&awinaffid=1141853&clickref=termine.d
 e&ued=https%3A%2F%2Fwww.tiqets.com%2Fde%2Fhamburg-sehenswuerdigkeiten-c6488
 6%2F%3Fpartner%3D8616<br/><br/><br/><br/><br/>Anbieter-Impressum:">https://
 www.awin1.com/cread.php?awinmid=8616&awinaffid=1141853&clickref=termine.de&
 ued=https%3A%2F%2Fwww.tiqets.com%2Fde%2Fhamburg-sehenswuerdigkeiten-c64886%
 2F%3Fpartner%3D8616<br/><br/><br/><br/><br/>Anbieter-Impressum:</a> <a href
 ="https://calovo.de/impressum">https://calovo.de/impressum</a><br/><br/><br
 />calovo Kalender löschen? Anleitung: termine.de/ical/loeschen
DTSTAMP:20260421T213307
DTSTART;TZID=Europe/Berlin;VALUE=DATE:20251225
DTEND;TZID=Europe/Berlin;VALUE=DATE:20251226
SEQUENCE:2218
TRANSP:OPAQUE
END:VEVENT
END:VCALENDAR