BEGIN:VCALENDAR
VERSION:2.0
PRODID:-//jEvents 2.0 for Joomla//EN
CALSCALE:GREGORIAN
METHOD:PUBLISH
BEGIN:VTIMEZONE
TZID:Europe/Berlin
BEGIN:STANDARD
DTSTART:20240131T000000
RDATE:20240331T030000
TZOFFSETFROM:+0200
TZOFFSETTO:+0100
TZNAME:Europe/Berlin CET
END:STANDARD
BEGIN:STANDARD
DTSTART:20241027T020000
RDATE:20250330T030000
TZOFFSETFROM:+0200
TZOFFSETTO:+0100
TZNAME:Europe/Berlin CET
END:STANDARD
BEGIN:STANDARD
DTSTART:20251026T020000
RDATE:20260329T030000
TZOFFSETFROM:+0200
TZOFFSETTO:+0100
TZNAME:Europe/Berlin CET
END:STANDARD
BEGIN:STANDARD
DTSTART:20261025T020000
RDATE:20270328T030000
TZOFFSETFROM:+0200
TZOFFSETTO:+0100
TZNAME:Europe/Berlin CET
END:STANDARD
BEGIN:STANDARD
DTSTART:20271031T020000
RDATE:20280326T030000
TZOFFSETFROM:+0200
TZOFFSETTO:+0100
TZNAME:Europe/Berlin CET
END:STANDARD
BEGIN:STANDARD
DTSTART:20281029T020000
RDATE:20290325T030000
TZOFFSETFROM:+0200
TZOFFSETTO:+0100
TZNAME:Europe/Berlin CET
END:STANDARD
BEGIN:STANDARD
DTSTART:20291028T020000
RDATE:20300331T030000
TZOFFSETFROM:+0200
TZOFFSETTO:+0100
TZNAME:Europe/Berlin CET
END:STANDARD
BEGIN:STANDARD
DTSTART:20301027T020000
RDATE:20310330T030000
TZOFFSETFROM:+0200
TZOFFSETTO:+0100
TZNAME:Europe/Berlin CET
END:STANDARD
BEGIN:STANDARD
DTSTART:20311026T020000
RDATE:20320328T030000
TZOFFSETFROM:+0200
TZOFFSETTO:+0100
TZNAME:Europe/Berlin CET
END:STANDARD
BEGIN:STANDARD
DTSTART:20321031T020000
RDATE:20330327T030000
TZOFFSETFROM:+0200
TZOFFSETTO:+0100
TZNAME:Europe/Berlin CET
END:STANDARD
BEGIN:STANDARD
DTSTART:20331030T020000
RDATE:20340326T030000
TZOFFSETFROM:+0200
TZOFFSETTO:+0100
TZNAME:Europe/Berlin CET
END:STANDARD
BEGIN:STANDARD
DTSTART:20341029T020000
RDATE:20350325T030000
TZOFFSETFROM:+0200
TZOFFSETTO:+0100
TZNAME:Europe/Berlin CET
END:STANDARD
BEGIN:STANDARD
DTSTART:20351028T020000
RDATE:20360330T030000
TZOFFSETFROM:+0200
TZOFFSETTO:+0100
TZNAME:Europe/Berlin CET
END:STANDARD
BEGIN:STANDARD
DTSTART:20361026T020000
RDATE:20370329T030000
TZOFFSETFROM:+0200
TZOFFSETTO:+0100
TZNAME:Europe/Berlin CET
END:STANDARD
BEGIN:STANDARD
DTSTART:20371025T020000
TZOFFSETFROM:+0200
TZOFFSETTO:+0100
TZNAME:Europe/Berlin CET
END:STANDARD
BEGIN:DAYLIGHT
DTSTART:20240331T030000
RDATE:20241027T020000
TZOFFSETFROM:+0100
TZOFFSETTO:+0200
TZNAME:Europe/Berlin CEST
END:DAYLIGHT
BEGIN:DAYLIGHT
DTSTART:20250330T030000
RDATE:20251026T020000
TZOFFSETFROM:+0100
TZOFFSETTO:+0200
TZNAME:Europe/Berlin CEST
END:DAYLIGHT
BEGIN:DAYLIGHT
DTSTART:20260329T030000
RDATE:20261025T020000
TZOFFSETFROM:+0100
TZOFFSETTO:+0200
TZNAME:Europe/Berlin CEST
END:DAYLIGHT
BEGIN:DAYLIGHT
DTSTART:20270328T030000
RDATE:20271031T020000
TZOFFSETFROM:+0100
TZOFFSETTO:+0200
TZNAME:Europe/Berlin CEST
END:DAYLIGHT
BEGIN:DAYLIGHT
DTSTART:20280326T030000
RDATE:20281029T020000
TZOFFSETFROM:+0100
TZOFFSETTO:+0200
TZNAME:Europe/Berlin CEST
END:DAYLIGHT
BEGIN:DAYLIGHT
DTSTART:20290325T030000
RDATE:20291028T020000
TZOFFSETFROM:+0100
TZOFFSETTO:+0200
TZNAME:Europe/Berlin CEST
END:DAYLIGHT
BEGIN:DAYLIGHT
DTSTART:20300331T030000
RDATE:20301027T020000
TZOFFSETFROM:+0100
TZOFFSETTO:+0200
TZNAME:Europe/Berlin CEST
END:DAYLIGHT
BEGIN:DAYLIGHT
DTSTART:20310330T030000
RDATE:20311026T020000
TZOFFSETFROM:+0100
TZOFFSETTO:+0200
TZNAME:Europe/Berlin CEST
END:DAYLIGHT
BEGIN:DAYLIGHT
DTSTART:20320328T030000
RDATE:20321031T020000
TZOFFSETFROM:+0100
TZOFFSETTO:+0200
TZNAME:Europe/Berlin CEST
END:DAYLIGHT
BEGIN:DAYLIGHT
DTSTART:20330327T030000
RDATE:20331030T020000
TZOFFSETFROM:+0100
TZOFFSETTO:+0200
TZNAME:Europe/Berlin CEST
END:DAYLIGHT
BEGIN:DAYLIGHT
DTSTART:20340326T030000
RDATE:20341029T020000
TZOFFSETFROM:+0100
TZOFFSETTO:+0200
TZNAME:Europe/Berlin CEST
END:DAYLIGHT
BEGIN:DAYLIGHT
DTSTART:20350325T030000
RDATE:20351028T020000
TZOFFSETFROM:+0100
TZOFFSETTO:+0200
TZNAME:Europe/Berlin CEST
END:DAYLIGHT
BEGIN:DAYLIGHT
DTSTART:20360330T030000
RDATE:20361026T020000
TZOFFSETFROM:+0100
TZOFFSETTO:+0200
TZNAME:Europe/Berlin CEST
END:DAYLIGHT
BEGIN:DAYLIGHT
DTSTART:20370329T030000
RDATE:20371025T020000
TZOFFSETFROM:+0100
TZOFFSETTO:+0200
TZNAME:Europe/Berlin CEST
END:DAYLIGHT
END:VTIMEZONE
BEGIN:VEVENT
UID:6540f5aa36771@72.calovo
CATEGORIES:Ferien und Feiertage
CREATED:20231101T020002
SUMMARY:Winterferien Hamburg 2025
LOCATION:calovo.de | zattoo kostenlos testen: bit.ly/calovo_zattoo | Hamburg\, Deuts
 chland
DESCRIPTION:Mit zattoo auch unterwegs, auf Terrasse, Balkon und im Garten TV in höchste
 r Qualität genießen. Jetzt kostenlos testen! <a href="https://bit.ly/calovo
 _zattoo">https://bit.ly/calovo_zattoo</a><br/><br/>Winterferien 2025 in Ham
 burg: Ein unvergessliches Erlebnis<br/> Die Winterferien 2025 stehen vor de
 r Tür und bieten die perfekte Gelegenheit, die kalte Jahreszeit in der schö
 nen Hansestadt Hamburg zu genießen. Vom 31. Januar bis zum 12. Februar 2025
  hast Du die Chance, eine Vielzahl von Aktivitäten und Veranstaltungen zu e
 rleben, die sowohl für Groß als auch für Klein interessant sind.<br/> Vielf
 ältige Aktivitäten im Winter<br/> Hamburg verwandelt sich während der Winte
 rferien in ein wahres Paradies für Entdecker. Ob in der Innenstadt oder in 
 den charmanten Stadtteilen – zahlreiche Veranstaltungen laden dazu ein, die
  Winterzeit aktiv zu verbringen. Ob Du die Kunst- und Kulturszene der Stadt
  erkunden oder die zahlreichen Museen besuchen möchtest, in Hamburg gibt es
  für jeden Geschmack etwas zu entdecken.<br/> Familienfreundliche Ausflugsz
 iele<br/> Die winterlichen Tage sind ideal für Familienausflüge. Besuche be
 liebte Attraktionen wie den Hamburger Hafen, der in der kalten Jahreszeit s
 einen ganz eigenen Charme entwickelt. Auch der Tierpark Hagenbeck bietet wä
 hrend der Winterferien besondere Angebote, die Familien begeistern werden. 
 Ob bei einem traditionellen Winterspaziergang oder beim Entdecken der Attra
 ktionen – die Stadt hält unzählige Möglichkeiten bereit, die Zeit miteinand
 er zu verbringen.<br/> Kulturelle Highlights und Veranstaltungen<br/> Währe
 nd der Winterferien hast Du die Möglichkeit, zahlreiche kulturelle Veransta
 ltungen zu besuchen. Von Konzerten über Theateraufführungen bis hin zu spez
 iellen Workshops – Hamburg hat ein vielfältiges Angebot, das speziell auf d
 ie winterlichen <br/> Weiteres: <br/> Zum Event: <a href="https://termine.d
 e/e/JX6d2Ct?clickref=ical">https://termine.de/e/JX6d2Ct?clickref=ical</a> <
 br/> Familienurlaub: <a href="https://termine.de/api/v1/affiliate/event/JX6
 d2Ct/0">https://termine.de/api/v1/affiliate/event/JX6d2Ct/0</a><br/><br/><b
 r/><br/><br/>Anbieter-Impressum: <a href="https://calovo.de/impressum">http
 s://calovo.de/impressum</a><br/><br/><br/>calovo Kalender löschen? Anleitun
 g: termine.de/ical/loeschen
DTSTAMP:20260422T170120
DTSTART;TZID=Europe/Berlin;VALUE=DATE:20250131
DTEND;TZID=Europe/Berlin;VALUE=DATE:20250201
SEQUENCE:4170
TRANSP:OPAQUE
END:VEVENT
END:VCALENDAR